BEGIN:VCALENDAR
VERSION:2.0
PRODID:-//BRAHMA KUMARIS UMRED - ECPv4.9.3.2//NONSGML v1.0//EN
CALSCALE:GREGORIAN
METHOD:PUBLISH
X-WR-CALNAME:BRAHMA KUMARIS UMRED
X-ORIGINAL-URL:https://umred.bk.ooo
X-WR-CALDESC:Events for BRAHMA KUMARIS UMRED
BEGIN:VEVENT
DTSTART;TZID=UTC+0:20171208T080000
DTEND;TZID=UTC+0:20171209T200000
DTSTAMP:20260423T021600
CREATED:20171114T152824Z
LAST-MODIFIED:20171114T152824Z
UID:216-1512720000-1512849600@umred.bk.ooo
SUMMARY:"Wah Jindagi Wah " - Celebrating Life with Happiness
DESCRIPTION: \n
URL:https://umred.bk.ooo/event/wah-jindagi-wah-celebrating-life-with-happiness/
LOCATION:BRAHMA KUMARIS UMRED \, Pavandham\, near gav talab \,kavra peth \, umred\, MH\, 441203\, India
ATTACH;FMTTYPE=image/jpeg:https://umred.bk.ooo/wp-content/uploads/sites/328/2017/11/mera-babaaa.jpeg
ORGANIZER;CN="BRAHMA%20KUMARIS%20UMRED":MAILTO:bk.umred1@gmail.com
END:VEVENT
END:VCALENDAR